BEGIN:VCALENDAR
VERSION:2.0
PRODID:-//Mitchells Presbyterian Church - ECPv6.15.20//NONSGML v1.0//EN
CALSCALE:GREGORIAN
METHOD:PUBLISH
X-ORIGINAL-URL:https://www.mitchellspresbyterian.org
X-WR-CALDESC:Events for Mitchells Presbyterian Church
REFRESH-INTERVAL;VALUE=DURATION:PT1H
X-Robots-Tag:noindex
X-PUBLISHED-TTL:PT1H
BEGIN:VTIMEZONE
TZID:UTC
BEGIN:STANDARD
TZOFFSETFROM:+0000
TZOFFSETTO:+0000
TZNAME:UTC
DTSTART:20210101T000000
END:STANDARD
END:VTIMEZONE
BEGIN:VEVENT
DTSTART;VALUE=DATE:20221218
DTEND;VALUE=DATE:20221219
DTSTAMP:20260421T101113
CREATED:20220420T154030Z
LAST-MODIFIED:20220420T154030Z
UID:965-1671321600-1671407999@www.mitchellspresbyterian.org
SUMMARY:Monthly Flowers - The Massey Family
DESCRIPTION:
URL:https://www.mitchellspresbyterian.org/event/monthly-flowers-the-massey-family/
END:VEVENT
BEGIN:VEVENT
DTSTART;VALUE=DATE:20221218
DTEND;VALUE=DATE:20221219
DTSTAMP:20260421T101113
CREATED:20221116T194558Z
LAST-MODIFIED:20221116T194558Z
UID:1249-1671321600-1671407999@www.mitchellspresbyterian.org
SUMMARY:Advent 4
DESCRIPTION:
URL:https://www.mitchellspresbyterian.org/event/advent-4/
END:VEVENT
BEGIN:VEVENT
DTSTART;VALUE=DATE:20221218
DTEND;VALUE=DATE:20221219
DTSTAMP:20260421T101113
CREATED:20221201T142317Z
LAST-MODIFIED:20221201T142317Z
UID:1299-1671321600-1671407999@www.mitchellspresbyterian.org
SUMMARY:Team A
DESCRIPTION:
URL:https://www.mitchellspresbyterian.org/event/team-a-29/
END:VEVENT
END:VCALENDAR