BEGIN:VCALENDAR
VERSION:2.0
PRODID:-//Mitchells Presbyterian Church - ECPv6.15.20//NONSGML v1.0//EN
CALSCALE:GREGORIAN
METHOD:PUBLISH
X-WR-CALNAME:Mitchells Presbyterian Church
X-ORIGINAL-URL:https://www.mitchellspresbyterian.org
X-WR-CALDESC:Events for Mitchells Presbyterian Church
REFRESH-INTERVAL;VALUE=DURATION:PT1H
X-Robots-Tag:noindex
X-PUBLISHED-TTL:PT1H
BEGIN:VTIMEZONE
TZID:UTC
BEGIN:STANDARD
TZOFFSETFROM:+0000
TZOFFSETTO:+0000
TZNAME:UTC
DTSTART:20250101T000000
END:STANDARD
END:VTIMEZONE
BEGIN:VEVENT
DTSTART;TZID=UTC:20260210T180000
DTEND;TZID=UTC:20260210T200000
DTSTAMP:20260420T130516
CREATED:20260129T190015Z
LAST-MODIFIED:20260129T190015Z
UID:2729-1770746400-1770753600@www.mitchellspresbyterian.org
SUMMARY:Presbyterian Women Dinner at China Garden
DESCRIPTION:
URL:https://www.mitchellspresbyterian.org/event/presbyterian-women-dinner-at-china-garden/
END:VEVENT
END:VCALENDAR