BEGIN:VCALENDAR
VERSION:2.0
PRODID:-//Mitchells Presbyterian Church - ECPv6.15.20//NONSGML v1.0//EN
CALSCALE:GREGORIAN
METHOD:PUBLISH
X-ORIGINAL-URL:https://www.mitchellspresbyterian.org
X-WR-CALDESC:Events for Mitchells Presbyterian Church
REFRESH-INTERVAL;VALUE=DURATION:PT1H
X-Robots-Tag:noindex
X-PUBLISHED-TTL:PT1H
BEGIN:VTIMEZONE
TZID:UTC
BEGIN:STANDARD
TZOFFSETFROM:+0000
TZOFFSETTO:+0000
TZNAME:UTC
DTSTART:20250101T000000
END:STANDARD
END:VTIMEZONE
BEGIN:VEVENT
DTSTART;TZID=UTC:20260226T120000
DTEND;TZID=UTC:20260226T140000
DTSTAMP:20260420T125950
CREATED:20260129T190449Z
LAST-MODIFIED:20260129T190449Z
UID:2734-1772107200-1772114400@www.mitchellspresbyterian.org
SUMMARY:Good Timers at Luigi's
DESCRIPTION:
URL:https://www.mitchellspresbyterian.org/event/good-timers-at-luigis-2/
END:VEVENT
END:VCALENDAR