BEGIN:VCALENDAR
VERSION:2.0
PRODID:-//Mitchells Presbyterian Church - ECPv6.15.20//NONSGML v1.0//EN
CALSCALE:GREGORIAN
METHOD:PUBLISH
X-ORIGINAL-URL:https://www.mitchellspresbyterian.org
X-WR-CALDESC:Events for Mitchells Presbyterian Church
REFRESH-INTERVAL;VALUE=DURATION:PT1H
X-Robots-Tag:noindex
X-PUBLISHED-TTL:PT1H
BEGIN:VTIMEZONE
TZID:UTC
BEGIN:STANDARD
TZOFFSETFROM:+0000
TZOFFSETTO:+0000
TZNAME:UTC
DTSTART:20210101T000000
END:STANDARD
END:VTIMEZONE
BEGIN:VTIMEZONE
TZID:America/New_York
BEGIN:DAYLIGHT
TZOFFSETFROM:-0500
TZOFFSETTO:-0400
TZNAME:EDT
DTSTART:20210314T070000
END:DAYLIGHT
BEGIN:STANDARD
TZOFFSETFROM:-0400
TZOFFSETTO:-0500
TZNAME:EST
DTSTART:20211107T060000
END:STANDARD
BEGIN:DAYLIGHT
TZOFFSETFROM:-0500
TZOFFSETTO:-0400
TZNAME:EDT
DTSTART:20220313T070000
END:DAYLIGHT
BEGIN:STANDARD
TZOFFSETFROM:-0400
TZOFFSETTO:-0500
TZNAME:EST
DTSTART:20221106T060000
END:STANDARD
BEGIN:DAYLIGHT
TZOFFSETFROM:-0500
TZOFFSETTO:-0400
TZNAME:EDT
DTSTART:20230312T070000
END:DAYLIGHT
BEGIN:STANDARD
TZOFFSETFROM:-0400
TZOFFSETTO:-0500
TZNAME:EST
DTSTART:20231105T060000
END:STANDARD
END:VTIMEZONE
BEGIN:VEVENT
DTSTART;VALUE=DATE:20220703
DTEND;VALUE=DATE:20220704
DTSTAMP:20260421T113646
CREATED:20220601T124958Z
LAST-MODIFIED:20220601T124958Z
UID:1044-1656806400-1656892799@www.mitchellspresbyterian.org
SUMMARY:Team A
DESCRIPTION:
URL:https://www.mitchellspresbyterian.org/event/team-a-21/
END:VEVENT
BEGIN:VEVENT
DTSTART;VALUE=DATE:20220710
DTEND;VALUE=DATE:20220711
DTSTAMP:20260421T113646
CREATED:20220601T125025Z
LAST-MODIFIED:20220601T125025Z
UID:1046-1657411200-1657497599@www.mitchellspresbyterian.org
SUMMARY:Team B
DESCRIPTION:
URL:https://www.mitchellspresbyterian.org/event/team-b-22/
END:VEVENT
BEGIN:VEVENT
DTSTART;TZID=UTC:20220710T100000
DTEND;TZID=UTC:20220710T110000
DTSTAMP:20260421T113646
CREATED:20220403T171909Z
LAST-MODIFIED:20220403T171909Z
UID:928-1657447200-1657450800@www.mitchellspresbyterian.org
SUMMARY:Worship Service Only
DESCRIPTION:There will be no Sunday school today.
URL:https://www.mitchellspresbyterian.org/event/worship-service-only/
END:VEVENT
BEGIN:VEVENT
DTSTART;TZID=America/New_York:20220710T100000
DTEND;TZID=America/New_York:20220710T230000
DTSTAMP:20260421T113646
CREATED:20220406T164040Z
LAST-MODIFIED:20220406T164040Z
UID:942-1657447200-1657494000@www.mitchellspresbyterian.org
SUMMARY:Worship Change! 10AM Worship
DESCRIPTION:
URL:https://www.mitchellspresbyterian.org/event/worship-change-10am-worship/
END:VEVENT
BEGIN:VEVENT
DTSTART;TZID=America/New_York:20220710T110000
DTEND;TZID=America/New_York:20220710T150000
DTSTAMP:20260421T113646
CREATED:20220406T163955Z
LAST-MODIFIED:20220406T164115Z
UID:940-1657450800-1657465200@www.mitchellspresbyterian.org
SUMMARY:Charity Bike Ride
DESCRIPTION:
URL:https://www.mitchellspresbyterian.org/event/charity-bike-ride/
END:VEVENT
BEGIN:VEVENT
DTSTART;TZID=America/New_York:20220714T190000
DTEND;TZID=America/New_York:20220714T210000
DTSTAMP:20260421T113646
CREATED:20220704T130943Z
LAST-MODIFIED:20220707T131733Z
UID:1069-1657825200-1657832400@www.mitchellspresbyterian.org
SUMMARY:Session
DESCRIPTION:
URL:https://www.mitchellspresbyterian.org/event/session-4/
END:VEVENT
BEGIN:VEVENT
DTSTART;VALUE=DATE:20220717
DTEND;VALUE=DATE:20220718
DTSTAMP:20260421T113646
CREATED:20220322T145155Z
LAST-MODIFIED:20220322T145155Z
UID:864-1658016000-1658102399@www.mitchellspresbyterian.org
SUMMARY:Monthly Flowers - Alice Hopkins
DESCRIPTION:
URL:https://www.mitchellspresbyterian.org/event/monthly-flowers-alice-hopkins/
END:VEVENT
BEGIN:VEVENT
DTSTART;VALUE=DATE:20220717
DTEND;VALUE=DATE:20220718
DTSTAMP:20260421T113646
CREATED:20220601T125056Z
LAST-MODIFIED:20220601T125056Z
UID:1048-1658016000-1658102399@www.mitchellspresbyterian.org
SUMMARY:Team C
DESCRIPTION:
URL:https://www.mitchellspresbyterian.org/event/team-c-22/
END:VEVENT
BEGIN:VEVENT
DTSTART;TZID=UTC:20220717T150000
DTEND;TZID=UTC:20220717T170000
DTSTAMP:20260421T113646
CREATED:20220601T124357Z
LAST-MODIFIED:20220601T124357Z
UID:1027-1658070000-1658077200@www.mitchellspresbyterian.org
SUMMARY:Organ Recital by Daniel Grotz and Reception
DESCRIPTION:
URL:https://www.mitchellspresbyterian.org/event/organ-recital-by-daniel-grotz-and-reception/
END:VEVENT
BEGIN:VEVENT
DTSTART;TZID=America/New_York:20220720T180000
DTEND;TZID=America/New_York:20220720T180000
DTSTAMP:20260421T113646
CREATED:20220407T211039Z
LAST-MODIFIED:20220407T211039Z
UID:954-1658340000-1658340000@www.mitchellspresbyterian.org
SUMMARY:Congregational Life and Ministry Meeting
DESCRIPTION:
URL:https://www.mitchellspresbyterian.org/event/congregational-life-and-ministry-meeting-3/
END:VEVENT
BEGIN:VEVENT
DTSTART;VALUE=DATE:20220724
DTEND;VALUE=DATE:20220725
DTSTAMP:20260421T113646
CREATED:20220601T125125Z
LAST-MODIFIED:20220601T125125Z
UID:1050-1658620800-1658707199@www.mitchellspresbyterian.org
SUMMARY:Team A
DESCRIPTION:
URL:https://www.mitchellspresbyterian.org/event/team-a-22/
END:VEVENT
BEGIN:VEVENT
DTSTART;VALUE=DATE:20220731
DTEND;VALUE=DATE:20220801
DTSTAMP:20260421T113646
CREATED:20220601T125202Z
LAST-MODIFIED:20220601T125202Z
UID:1052-1659225600-1659311999@www.mitchellspresbyterian.org
SUMMARY:Team B
DESCRIPTION:
URL:https://www.mitchellspresbyterian.org/event/team-b-23/
END:VEVENT
BEGIN:VEVENT
DTSTART;TZID=UTC:20220731T173000
DTEND;TZID=UTC:20220731T193000
DTSTAMP:20260421T113646
CREATED:20220704T131144Z
LAST-MODIFIED:20220704T131144Z
UID:1071-1659288600-1659295800@www.mitchellspresbyterian.org
SUMMARY:Italian Dinner and Bingo
DESCRIPTION:
URL:https://www.mitchellspresbyterian.org/event/italian-dinner-and-bingo/
END:VEVENT
END:VCALENDAR